BEGIN:VCALENDAR
VERSION:2.0
PRODID:-//PolyPier by ECP - ECPv6.15.20//NONSGML v1.0//EN
CALSCALE:GREGORIAN
METHOD:PUBLISH
X-ORIGINAL-URL:https://polypier.com
X-WR-CALDESC:Events for PolyPier by ECP
REFRESH-INTERVAL;VALUE=DURATION:PT1H
X-Robots-Tag:noindex
X-PUBLISHED-TTL:PT1H
BEGIN:VTIMEZONE
TZID:America/Detroit
BEGIN:DAYLIGHT
TZOFFSETFROM:-0500
TZOFFSETTO:-0400
TZNAME:EDT
DTSTART:20240310T070000
END:DAYLIGHT
BEGIN:STANDARD
TZOFFSETFROM:-0400
TZOFFSETTO:-0500
TZNAME:EST
DTSTART:20241103T060000
END:STANDARD
BEGIN:DAYLIGHT
TZOFFSETFROM:-0500
TZOFFSETTO:-0400
TZNAME:EDT
DTSTART:20250309T070000
END:DAYLIGHT
BEGIN:STANDARD
TZOFFSETFROM:-0400
TZOFFSETTO:-0500
TZNAME:EST
DTSTART:20251102T060000
END:STANDARD
BEGIN:DAYLIGHT
TZOFFSETFROM:-0500
TZOFFSETTO:-0400
TZNAME:EDT
DTSTART:20260308T070000
END:DAYLIGHT
BEGIN:STANDARD
TZOFFSETFROM:-0400
TZOFFSETTO:-0500
TZNAME:EST
DTSTART:20261101T060000
END:STANDARD
BEGIN:DAYLIGHT
TZOFFSETFROM:-0500
TZOFFSETTO:-0400
TZNAME:EDT
DTSTART:20270314T070000
END:DAYLIGHT
BEGIN:STANDARD
TZOFFSETFROM:-0400
TZOFFSETTO:-0500
TZNAME:EST
DTSTART:20271107T060000
END:STANDARD
END:VTIMEZONE
BEGIN:VEVENT
DTSTART;VALUE=DATE:20260322
DTEND;VALUE=DATE:20260326
DTSTAMP:20260424T064754
CREATED:20260227T142021Z
LAST-MODIFIED:20260227T142021Z
UID:2469-1774137600-1774483199@polypier.com
SUMMARY:PolyPier to Exhibit at SprayFoam 2026 in Las Vegas
DESCRIPTION:Visit Booth #423 | March 22–25\, 2026\nThe PolyPier team is headed to Las Vegas for one of the spray foam industry’s biggest events of the year — the Spray Polyurethane Foam Alliance (SPFA) SprayFoam Convention & Expo\, March 22–25\, 2026. \nKnown as the #1 event for spray foam professionals\, SprayFoam 2026 brings together contractors\, manufacturers\, suppliers\, and industry leaders for educational breakout sessions\, certification activities\, networking opportunities\, and a two-day expo hall showcasing innovation across the spray polyurethane foam market. \nWe’re excited to be part of it. \nYou can find PolyPier at Booth #423. \n \nWhat Is PolyPier?\nPolyPier is a high-density polyurethane foundation repair and concrete lifting system engineered by Earth Contact Products (ECP). Designed for structural performance\, precision installation\, and long-term reliability\, PolyPier delivers measurable lift and stabilization for residential and commercial structures. \nUnlike traditional mudjacking methods\, PolyPier utilizes engineered expanding polyurethane foam that: \n\nExpands with controlled force to lift and stabilize\nCures quickly\, minimizing downtime\nIs lightweight yet incredibly strong\nResists water infiltration and soil erosion\nAllows for accurate\, targeted placement\n\nThe result? A clean\, efficient\, and structurally sound solution that aligns with today’s performance-driven construction standards. \nWhy PolyPier Matters to Spray Foam Professionals\nSpray foam contractors already understand the science and power of polyurethane. PolyPier brings that same chemistry into the structural and foundation repair space — opening new opportunities for diversification and business growth. \nFor contractors looking to expand their service offerings\, PolyPier provides: \n\nEntry into the high-demand foundation repair and concrete lifting market\nA scalable system backed by engineering and manufacturing expertise\nTechnical training and contractor support\nA product that aligns naturally with polyurethane application knowledge\n\nAs the spray foam industry continues to evolve\, adding structural polyurethane solutions like PolyPier can create a powerful competitive advantage. \nVisit PolyPier at Booth #423\nWhether you’re an established spray foam contractor exploring expansion opportunities or a manufacturer interested in structural polyurethane innovation\, we invite you to stop by Booth #423. \nMeet the team.See how the system works.Explore how PolyPier can integrate into your business model. \nWe look forward to connecting in Las Vegas and being part of the conversations shaping the future of polyurethane technology. \nSee you at SPFA Convention & Expo 2026.
URL:https://polypier.com/event/spfa-2026/
CATEGORIES:Industry Events
END:VEVENT
BEGIN:VEVENT
DTSTART;VALUE=DATE:20260120
DTEND;VALUE=DATE:20260123
DTSTAMP:20260424T064754
CREATED:20251218T145746Z
LAST-MODIFIED:20260121T175250Z
UID:2329-1768867200-1769126399@polypier.com
SUMMARY:PolyPier to Be Featured at World of Concrete 2026
DESCRIPTION:January 20–22\, 2026 | Booth S12817 | Las Vegas Convention Center\nPolyPier®\, the high-density polyurethane foam system from Earth Contact Products (ECP)\, will be featured at World of Concrete 2026\, the premier international event for the commercial concrete and masonry construction industries. \nHeld January 20–22 at the Las Vegas Convention Center\, World of Concrete brings together contractors\, engineers\, and industry leaders to explore the tools\, technologies\, and methods shaping the future of concrete construction and repair. \nAs demand for efficient\, minimally invasive concrete lifting solutions continues to grow\, PolyPier is proud to be part of the conversation. \n \nWhy PolyPier Matters at World of Concrete\nWorld of Concrete is where professionals go to find practical solutions for real-world concrete challenges. PolyPier was developed specifically to meet those needs—providing a fast\, precise\, and durable approach to concrete lifting and leveling. \nContractors attending the show will have the opportunity to learn how PolyPier helps address common concrete issues\, including: \n\nSunken or uneven slabs \nTrip hazards on sidewalks or walkways\nSettled driveways\, patios\, and pool decks\nIndustrial and warehouse floor settlement\n\nPolyPier’s lightweight\, high-strength polyurethane foam allows for controlled slab lifting with minimal disruption\, making it an ideal solution for both residential and commercial applications. \n \nPolyPier: A Smarter Approach to Concrete Lifting\nPolyPier is engineered to deliver performance contractors can rely on. Its rapid cure time\, precise lift capabilities\, and long-term stability help crews complete jobs efficiently while delivering lasting results for customers. \nAt World of Concrete 2026\, attendees can explore how PolyPier: \n\nReduces downtime compared to traditional methods\nRequires smaller drill holes for a cleaner finish\nAchieves accurate lifting with controlled expansion\nSupports long-term slab stabilization\n\nWhether used on exterior flatwork or interior industrial floors\, PolyPier offers a versatile solution for modern concrete repair needs. \nBacked by ECP Engineering and Expertise\nPolyPier is part of the broader lineup of engineered solutions from Earth Contact Products (ECP)\, a trusted name in foundation repair and structural support systems for more than 25 years. \nECP’s experience in geotechnical engineering and load-bearing systems ensures PolyPier is designed with performance\, reliability\, and contractor success in mind—making it a natural fit for concrete professionals looking to expand their service offerings. \nVisit PolyPier at Booth S12817\nWorld of Concrete attendees are invited to stop by Booth S12817 to learn more about PolyPier\, speak with knowledgeable product experts\, and discover how polyurethane foam lifting can enhance concrete repair services. \nFrom concrete leveling and lifting to long-term stabilization solutions\, PolyPier delivers a smarter way to restore concrete surfaces. \nJoin Us in Las Vegas\nWith live demonstrations\, hands-on education\, and the industry’s leading technologies all in one place\, World of Concrete 2026 is a must-attend event for concrete professionals. \nWe look forward to connecting with contractors and industry partners in Las Vegas\, January 20–22\, 2026. \nSee you at World of Concrete — and be sure to visit PolyPier at Booth S12817.
URL:https://polypier.com/event/polypier-to-be-featured-at-world-of-concrete-2026/
CATEGORIES:Industry Events
END:VEVENT
BEGIN:VEVENT
DTSTART;VALUE=DATE:20250209
DTEND;VALUE=DATE:20250213
DTSTAMP:20260424T064754
CREATED:20241212T160811Z
LAST-MODIFIED:20241212T160811Z
UID:1929-1739059200-1739404799@polypier.com
SUMMARY:PolyPier by ECP to be Featured at the SPFA Convention & Expo 2025
DESCRIPTION:The Spray Polyurethane Foam Alliance (SPFA) Convention & Expo is one of the most anticipated events in the industry\, bringing together professionals\, innovators\, and manufacturers from across the country. This year\, the event will take place from February 9-12\, 2025\, in Daytona\, Florida\, and ECP is excited to showcase our groundbreaking polyurethane foam solution\, PolyPier. \nWhat Makes PolyPier Stand Out?\n \nPolyPier is ECP’s premier polyurethane concrete leveling product\, designed to deliver unmatched performance in lifting and stabilizing sunken concrete. Its high-density foam formulation ensures precision and durability\, making it an industry favorite for contractors tackling a wide variety of projects\, including: \n\nDriveways and Sidewalks: Level uneven surfaces and eliminate tripping hazards.\nFoundations and Slabs: Restore stability to compromised structures.\nCommercial Applications: Provide reliable solutions for larger-scale projects.\n\nWith PolyPier\, contractors can achieve fast\, efficient\, and long-lasting results\, enhancing both productivity and customer satisfaction. \nMeet the PolyPier Team in Daytona\nAttending the SPFA Convention & Expo is the perfect opportunity to meet the ECP team and get hands-on insights into PolyPier’s capabilities. Our experts will be available to: \n\nAnswer Your Questions: Discuss your specific project needs and discover how PolyPier can provide tailored solutions.\nShare Industry Expertise: Gain insights into best practices\, applications\, and the latest advancements in polyurethane foam technology.\n\nDiscover the Future of Concrete Leveling\nThe SPFA Convention & Expo is more than just an event—it’s a platform for innovation\, collaboration\, and growth. By featuring PolyPier\, ECP continues to lead the way in polyurethane foam technology\, setting new standards for quality and performance. \nIf you’re planning to attend\, make sure to visit ECP at booth 319 to experience PolyPier firsthand. We look forward to meeting contractors\, engineers\, and industry professionals who share our commitment to excellence.  \nJoin Us in Daytona for SPFA Convention & Expo 2025!\nDon’t miss this opportunity to explore PolyPier and connect with the experts behind its success. Mark your calendar for the SPFA Convention & Expo in Daytona\, Florida\, from February 9-12\, 2025\, and let us show you why PolyPier is the future of concrete leveling. See you there!
URL:https://polypier.com/event/spfa-convention-expo-2025/
CATEGORIES:Industry Events
END:VEVENT
END:VCALENDAR