BEGIN:VCALENDAR
VERSION:2.0
PRODID:-//PolyPier by ECP - ECPv6.15.20//NONSGML v1.0//EN
CALSCALE:GREGORIAN
METHOD:PUBLISH
X-ORIGINAL-URL:https://polypier.com
X-WR-CALDESC:Events for PolyPier by ECP
REFRESH-INTERVAL;VALUE=DURATION:PT1H
X-Robots-Tag:noindex
X-PUBLISHED-TTL:PT1H
BEGIN:VTIMEZONE
TZID:America/Detroit
BEGIN:DAYLIGHT
TZOFFSETFROM:-0500
TZOFFSETTO:-0400
TZNAME:EDT
DTSTART:20240310T070000
END:DAYLIGHT
BEGIN:STANDARD
TZOFFSETFROM:-0400
TZOFFSETTO:-0500
TZNAME:EST
DTSTART:20241103T060000
END:STANDARD
BEGIN:DAYLIGHT
TZOFFSETFROM:-0500
TZOFFSETTO:-0400
TZNAME:EDT
DTSTART:20250309T070000
END:DAYLIGHT
BEGIN:STANDARD
TZOFFSETFROM:-0400
TZOFFSETTO:-0500
TZNAME:EST
DTSTART:20251102T060000
END:STANDARD
BEGIN:DAYLIGHT
TZOFFSETFROM:-0500
TZOFFSETTO:-0400
TZNAME:EDT
DTSTART:20260308T070000
END:DAYLIGHT
BEGIN:STANDARD
TZOFFSETFROM:-0400
TZOFFSETTO:-0500
TZNAME:EST
DTSTART:20261101T060000
END:STANDARD
BEGIN:DAYLIGHT
TZOFFSETFROM:-0500
TZOFFSETTO:-0400
TZNAME:EDT
DTSTART:20270314T070000
END:DAYLIGHT
BEGIN:STANDARD
TZOFFSETFROM:-0400
TZOFFSETTO:-0500
TZNAME:EST
DTSTART:20271107T060000
END:STANDARD
END:VTIMEZONE
BEGIN:VEVENT
DTSTART;TZID=America/Detroit:20260421T080000
DTEND;TZID=America/Detroit:20260423T170000
DTSTAMP:20260424T070154
CREATED:20251106T153755Z
LAST-MODIFIED:20260313T170518Z
UID:2305-1776758400-1776963600@polypier.com
SUMMARY:Spring PolyPier School Dates Announced!
DESCRIPTION:Join Us for PolyPier School – April 21–23\, 2026\nDates: April 21–23\, 2026Location: Courtyard Kansas City Olathe12151 S. Strang Line Court\, Olathe\, KS 66062 \n \nTake Your Concrete Leveling Expertise to the Next Level!\nECP’s PolyPier School is back this spring — offering a premier\, hands-on learning experience designed for contractors\, engineers\, and foundation repair professionals looking to master polyurethane concrete lifting and stabilization. \nThis immersive\, three-day training event delivers everything you need to succeed with ECP’s industry-leading polyurethane foam system\, PolyPier — from in-depth product knowledge to practical\, real-world application techniques. \nWhat is PolyPier School?\nPolyPier School is a comprehensive training program that gives attendees a complete understanding of ECP’s PolyPier\, the high-density expanding foam that sets the standard in concrete lifting and stabilization. Whether you’re expanding your service offerings or refining your technical skills\, this course equips you with the tools to deliver precision\, efficiency\, and customer satisfaction on every project. \nKey Highlights of PolyPier School\nAttendees will gain both classroom knowledge and hands-on training from industry experts. \nProgram Highlights: \n\nIn-Depth Product Knowledge: Explore PolyPier’s high-density foam formulation and how it delivers lasting\, reliable results for concrete repair.\nPractical\, Hands-On Training: Learn to lift and stabilize driveways\, foundations\, and commercial slabs using real equipment and materials.\nAdvanced Techniques: Master best practices to reduce downtime\, ensure quality results\, and boost customer confidence.\nTroubleshooting & Real-World Scenarios: Address common challenges and learn proven solutions directly from ECP’s experts.\nBusiness Growth Strategies: Discover how to add concrete leveling to your service line\, attract new customers\, and grow your revenue.\n\nWho Should Attend?\nPolyPier School is ideal for: \n\nContractors – Learn to expand your services and increase job efficiency.\nEngineers – Understand the science behind PolyPier’s performance and testing data.\nBusiness Owners – Explore how to integrate polyurethane solutions to increase your bottom line.\n\nWhy Choose PolyPier?\nECP’s PolyPier System sets the standard for precision\, strength\, and reliability in polyurethane foam applications. Backed by ECP’s commitment to engineering excellence\, PolyPier delivers durable\, high-performance results for residential\, commercial\, and industrial projects. \nBy attending PolyPier School\, you’ll gain the confidence and expertise to bring these same results to your customers — every time. \nReserve Your Spot Today!\nSeats for PolyPier School fill up quickly! Don’t miss your chance to experience this one-of-a-kind training opportunity and take your business to the next level. Register here or contact a member of our team!  \n📅 April 21–23\, 2026📍 Courtyard Kansas City Olathe12151 S. Strang Line CourtOlathe\, KS 66062 \n\nNick Salpas – 913-299-7871\nAaron K. Grayham – 913-207-0087\n\nReady to elevate your expertise in polyurethane concrete leveling? \nRegister for ECP’s PolyPier School today — and learn from the leaders in foundation and concrete repair technology. \n 
URL:https://polypier.com/event/spring-polypier-school-dates-announced/
CATEGORIES:Training
END:VEVENT
BEGIN:VEVENT
DTSTART;VALUE=DATE:20250916
DTEND;VALUE=DATE:20250919
DTSTAMP:20260424T070154
CREATED:20241212T162745Z
LAST-MODIFIED:20250808T143408Z
UID:1934-1757980800-1758239999@polypier.com
SUMMARY:Fall 2025 PolyPier Training School Announced!
DESCRIPTION:ECP’s PolyPier School is returning this fall\, offering an exceptional hands-on learning experience for contractors\, engineers\, and industry professionals. Taking place from September 16-18\, 2025\, this highly anticipated event will be hosted at ECP’s state-of-the-art training facility in Olathe\, Kansas.  \n \n  \nWhat is PolyPier School?\nPolyPier School is designed to provide comprehensive training on ECP’s premier polyurethane concrete leveling product\, PolyPier. This intensive program focuses on equipping attendees with the skills and knowledge needed to maximize the effectiveness of PolyPier for various concrete lifting and stabilization projects. Whether you’re new to the industry or a seasoned professional\, PolyPier School offers invaluable insights and practical expertise. \nKey Highlights of PolyPier School\nAttendees of PolyPier School will benefit from a blend of theoretical education and hands-on practice. Key features of the program include: \n\nIn-Depth Product Knowledge: Learn about PolyPier’s unique properties\, including its high-density foam formulation and unmatched reliability for lifting and stabilizing concrete. \nPractical Applications: Gain hands-on experience in using PolyPier for different project types\, such as driveways\, foundations\, and commercial slabs.\nAdvanced Techniques: Discover best practices for achieving optimal results\, minimizing downtime\, and ensuring customer satisfaction.\nTroubleshooting Skills: Address common challenges and explore solutions for complex projects.\nBusiness Growth + Sales Strategies\n\nWho Should Attend? \nPolyPier School is perfect for: \n\nContractors: Enhance your service offerings with a deeper understanding of PolyPier’s capabilities.\nEngineers: Learn the technical details behind PolyPier’s effectiveness in structural applications.\nBusiness Owners: Explore how PolyPier can add value to your business and expand your market reach.\n\nConnect with Industry Experts\nOne of the most valuable aspects of PolyPier School is the opportunity to engage with ECP’s expert team. Throughout the program\, our specialists will: \n\nDemonstrate PolyPier in Action: Watch live demonstrations showcasing real-world applications.\nProvide Personalized Guidance: Receive tailored advice to help you implement PolyPier in your projects.\nShare Industry Insights: Stay ahead of trends and advancements in polyurethane foam technology.\n\nWhy Choose PolyPier?\nECP’s PolyPier sets the gold standard in polyurethane foam technology. With its precision\, durability\, and adaptability\, PolyPier has become the go-to solution for contractors looking to achieve outstanding results. PolyPier School offers an unparalleled opportunity to master this game-changing product and bring its benefits to your clients. \nReserve Your Spot Today\nSpaces for PolyPier School are limited\, so don’t miss your chance to participate in this premier training event. Join us in Olathe\, Kansas\, from September 16-18\, 2025\, to discover how PolyPier can elevate your concrete leveling and repair services. \nConcrete Lifting Training School September 16th-18th\, 2025 \n\nContacts: Nick Salpas 913-299-7871\nAaron K. Grayham 913-207-0087\nJames Swartz 913-669-1988\nHotel: Courtyard Kansas City Olathe\n12151 S. Strang Line Court\nOlathe\, KS 66062\n\nReady to take your expertise to the next level? Register for PolyPier School today and learn from the leaders in polyurethane foam technology. We look forward to welcoming you! \nView the Itinerary
URL:https://polypier.com/event/spring-2025-polypier-school/
CATEGORIES:Training
END:VEVENT
END:VCALENDAR